BEGIN:VCALENDAR
VERSION:2.0
PRODID:-//OmniMagnetCalendar//EN
BEGIN:VEVENT
DTSTAMP:20190625T195740Z
STATUS:CONFIRMED
UID:hcnevada.clubs.harvard.edu128
DTSTART:20140426T190000Z
DTEND:20140427T010000Z
LOCATION:
SUMMARY:Day of Service: St. Jude's Ranch for Children
DESCRIPTION:Harvard Club of Nevada Service Day
BEGIN:VALARM
TRIGGER:-PT15M
ACTION:DISPLAY
END:VALARM
TRANSP:OPAQUE
END:VEVENT
END:VCALENDAR
