BEGIN:VCALENDAR
VERSION:2.0
PRODID:-//OmniMagnetCalendar//EN
BEGIN:VEVENT
DTSTAMP:20190625T195740Z
STATUS:CONFIRMED
UID:hcnevada.clubs.harvard.edu137
DTSTART:20140418T053000Z
DTEND:20140418T080000Z
LOCATION:
SUMMARY:Ivy Plus Night: The Tempest at The Smith Center
DESCRIPTION:Harvard's American Repertory Theater production
BEGIN:VALARM
TRIGGER:-PT15M
ACTION:DISPLAY
END:VALARM
TRANSP:OPAQUE
END:VEVENT
END:VCALENDAR
