BEGIN:VCALENDAR
VERSION:2.0
PRODID:-//OmniMagnetCalendar//EN
BEGIN:VEVENT
DTSTAMP:20190625T195740Z
STATUS:CONFIRMED
UID:hcnevada.clubs.harvard.edu144
DTSTART:20141023T040000Z
DTEND:20141023T060000Z
LOCATION:Gold Spike Casino, 217 Las Vegas Blvd Nort, Las Vegas, NV , 89101, USA,
SUMMARY:Welcome to Las Vegas reception
DESCRIPTION:New to Las Vegas event
BEGIN:VALARM
TRIGGER:-PT15M
ACTION:DISPLAY
END:VALARM
TRANSP:OPAQUE
END:VEVENT
END:VCALENDAR
