BEGIN:VCALENDAR
VERSION:2.0
PRODID:-//OmniMagnetCalendar//EN
BEGIN:VEVENT
DTSTAMP:20190625T195740Z
STATUS:CONFIRMED
UID:hcnevada.clubs.harvard.edu154
DTSTART:20150425T190000Z
DTEND:20150425T230000Z
LOCATION:Child Haven, 701 N Pecos Rd, Bldg K, Las Vegas, NV, 89101, USA,
SUMMARY:Harvard Global Month of Service
DESCRIPTION:
BEGIN:VALARM
TRIGGER:-PT15M
ACTION:DISPLAY
END:VALARM
TRANSP:OPAQUE
END:VEVENT
END:VCALENDAR
