BEGIN:VCALENDAR
VERSION:2.0
PRODID:-//OmniMagnetCalendar//EN
BEGIN:VEVENT
DTSTAMP:20190625T195740Z
STATUS:CONFIRMED
UID:hcnevada.clubs.harvard.edu158
DTSTART:20150925T043000Z
DTEND:20150925T080000Z
LOCATION:The Smith Center for Performing Arts, 361 Symphony Park Ave, Las Vegas, NV, 89106, USA,
SUMMARY:The Book of Mormon at The Smith Center
DESCRIPTION:Ivy Plus special event
BEGIN:VALARM
TRIGGER:-PT15M
ACTION:DISPLAY
END:VALARM
TRANSP:OPAQUE
END:VEVENT
END:VCALENDAR
