BEGIN:VCALENDAR
VERSION:2.0
PRODID:-//OmniMagnetCalendar//EN
BEGIN:VEVENT
DTSTAMP:20190625T195740Z
STATUS:CONFIRMED
UID:hcnevada.clubs.harvard.edu159
DTSTART:20151121T220000Z
DTEND:20151122T013000Z
LOCATION:EL CORTEZ HOTEL, 600 E. FREMONT ST, LAS VEGAS, NV, 89101,
SUMMARY:The GAME 2015: HARVARD vs yale
DESCRIPTION:
BEGIN:VALARM
TRIGGER:-PT15M
ACTION:DISPLAY
END:VALARM
TRANSP:OPAQUE
END:VEVENT
END:VCALENDAR
