BEGIN:VCALENDAR
VERSION:2.0
PRODID:-//OmniMagnetCalendar//EN
BEGIN:VEVENT
DTSTAMP:20190625T195740Z
STATUS:CONFIRMED
UID:hcnevada.clubs.harvard.edu161
DTSTART:20151021T033000Z
DTEND:20151021T060000Z
LOCATION:Cashman Center, 850 Las Vegas Blvd North, N. Las Vegas, NV, 89030,
SUMMARY:CCSD College Fair
DESCRIPTION:
BEGIN:VALARM
TRIGGER:-PT15M
ACTION:DISPLAY
END:VALARM
TRANSP:OPAQUE
END:VEVENT
END:VCALENDAR
