BEGIN:VCALENDAR
VERSION:2.0
PRODID:-//OmniMagnetCalendar//EN
BEGIN:VEVENT
DTSTAMP:20190625T195740Z
STATUS:CONFIRMED
UID:hcnevada.clubs.harvard.edu163
DTSTART:20151014T221300Z
DTEND:20151015T000000Z
LOCATION:Bronze Cafe at The Center, 401 S. Maryland Pkwy, Las Vegas, NV, 89101,
SUMMARY:Harvard Club Lunch, October
DESCRIPTION:
BEGIN:VALARM
TRIGGER:-PT15M
ACTION:DISPLAY
END:VALARM
TRANSP:OPAQUE
END:VEVENT
END:VCALENDAR
