BEGIN:VCALENDAR
VERSION:2.0
PRODID:-//OmniMagnetCalendar//EN
BEGIN:VEVENT
DTSTAMP:20190625T195740Z
STATUS:CONFIRMED
UID:hcnevada.clubs.harvard.edu166
DTSTART:20151216T233000Z
DTEND:20151217T010000Z
LOCATION:Paymon's Meditterranean Cafe, 4147 S. Maryland Pkwy, Las Vegas, NV, 89119, USA,
SUMMARY:Harvard Club Lunch, December
DESCRIPTION:
BEGIN:VALARM
TRIGGER:-PT15M
ACTION:DISPLAY
END:VALARM
TRANSP:OPAQUE
END:VEVENT
END:VCALENDAR
