BEGIN:VCALENDAR
VERSION:2.0
PRODID:-//OmniMagnetCalendar//EN
BEGIN:VEVENT
DTSTAMP:20190625T195740Z
STATUS:CONFIRMED
UID:hcnevada.clubs.harvard.edu170
DTSTART:20160217T233000Z
DTEND:20160218T010000Z
LOCATION:Mint Indian Bistro, 730 E. Flamingo Rd, Las Vegas, NV, 89119, USA,
SUMMARY:Harvard Club Lunch, February
DESCRIPTION:
BEGIN:VALARM
TRIGGER:-PT15M
ACTION:DISPLAY
END:VALARM
TRANSP:OPAQUE
END:VEVENT
END:VCALENDAR
