BEGIN:VCALENDAR
VERSION:2.0
PRODID:-//OmniMagnetCalendar//EN
BEGIN:VEVENT
DTSTAMP:20190625T195740Z
STATUS:CONFIRMED
UID:hcnevada.clubs.harvard.edu171
DTSTART:20160420T034500Z
DTEND:20160420T060000Z
LOCATION:Park Towers, One Howard Hughes Drive, Las Vegas, NV, 89109,
SUMMARY:Harvard Club of Nevada Annual Spring Reception & Prize Book Ceremony
DESCRIPTION:
BEGIN:VALARM
TRIGGER:-PT15M
ACTION:DISPLAY
END:VALARM
TRANSP:OPAQUE
END:VEVENT
END:VCALENDAR
