BEGIN:VCALENDAR
VERSION:2.0
PRODID:-//OmniMagnetCalendar//EN
BEGIN:VEVENT
DTSTAMP:20190625T195740Z
STATUS:CONFIRMED
UID:hcnevada.clubs.harvard.edu172
DTSTART:20160316T223000Z
DTEND:20160317T000000Z
LOCATION:Sammy's Woodfired Pizza, 6500 W. Sahara Ave, Las Vegas, NV, 89146, USA,
SUMMARY:Harvard Club Lunch, March
DESCRIPTION:
BEGIN:VALARM
TRIGGER:-PT15M
ACTION:DISPLAY
END:VALARM
TRANSP:OPAQUE
END:VEVENT
END:VCALENDAR
