BEGIN:VCALENDAR
VERSION:2.0
PRODID:-//OmniMagnetCalendar//EN
BEGIN:VEVENT
DTSTAMP:20190625T195740Z
STATUS:CONFIRMED
UID:hcnevada.clubs.harvard.edu173
DTSTART:20160420T223000Z
DTEND:20160421T000000Z
LOCATION:Osaka's, 4025 W. Sahara Ave, Las Vegas, NV, 89102, USA,
SUMMARY:Harvard Club Lunch, April
DESCRIPTION:
BEGIN:VALARM
TRIGGER:-PT15M
ACTION:DISPLAY
END:VALARM
TRANSP:OPAQUE
END:VEVENT
END:VCALENDAR
