BEGIN:VCALENDAR
VERSION:2.0
PRODID:-//OmniMagnetCalendar//EN
BEGIN:VEVENT
DTSTAMP:20190625T195740Z
STATUS:CONFIRMED
UID:hcnevada.clubs.harvard.edu174
DTSTART:20160423T190000Z
DTEND:20160423T220000Z
LOCATION:Veterans Village, 1150 S. Las Vegas Blvd, Las Vegas, NV, 89104,
SUMMARY:Harvard Global Month of Service, Las Vegas: April 23, 2016
DESCRIPTION:Harvard Club Volunteer Activity
BEGIN:VALARM
TRIGGER:-PT15M
ACTION:DISPLAY
END:VALARM
TRANSP:OPAQUE
END:VEVENT
END:VCALENDAR
