BEGIN:VCALENDAR
VERSION:2.0
PRODID:-//OmniMagnetCalendar//EN
BEGIN:VEVENT
DTSTAMP:20190625T195740Z
STATUS:CONFIRMED
UID:hcnevada.clubs.harvard.edu178
DTSTART:20160720T223000Z
DTEND:20160721T000000Z
LOCATION:Siegel's 1941 Restaurant, El Cortez Hotel, 600 E Fremont Stree, Las Vegas, NV, 89101, USA,
SUMMARY:Harvard Club Lunch, July 20,  2016
DESCRIPTION:
BEGIN:VALARM
TRIGGER:-PT15M
ACTION:DISPLAY
END:VALARM
TRANSP:OPAQUE
END:VEVENT
END:VCALENDAR
