BEGIN:VCALENDAR
VERSION:2.0
PRODID:-//OmniMagnetCalendar//EN
BEGIN:VEVENT
DTSTAMP:20190625T195740Z
STATUS:CONFIRMED
UID:hcnevada.clubs.harvard.edu179
DTSTART:20160814T010000Z
DTEND:20160814T040000Z
LOCATION:BBQ/Potluck, 2120 Jadeleaf Ct, Las Vegas, NV, 89134, USA,
SUMMARY:Harvard Club Summer 2016 WELCOME BBQ/Potluck
DESCRIPTION:Annual Welcome Event
BEGIN:VALARM
TRIGGER:-PT15M
ACTION:DISPLAY
END:VALARM
TRANSP:OPAQUE
END:VEVENT
END:VCALENDAR
