BEGIN:VCALENDAR
VERSION:2.0
PRODID:-//OmniMagnetCalendar//EN
BEGIN:VEVENT
DTSTAMP:20190625T195740Z
STATUS:CONFIRMED
UID:hcnevada.clubs.harvard.edu180
DTSTART:20160824T223000Z
DTEND:20160825T000000Z
LOCATION:Marrakech Mediterranean Restaurant, 3900 Paradise Road, Las Vegas, NV, 89169, USA,
SUMMARY:Harvard Club Lunch, August 24,  2016
DESCRIPTION:
BEGIN:VALARM
TRIGGER:-PT15M
ACTION:DISPLAY
END:VALARM
TRANSP:OPAQUE
END:VEVENT
END:VCALENDAR
