BEGIN:VCALENDAR
VERSION:2.0
PRODID:-//OmniMagnetCalendar//EN
BEGIN:VEVENT
DTSTAMP:20190625T195740Z
STATUS:CONFIRMED
UID:hcnevada.clubs.harvard.edu181
DTSTART:20160921T223000Z
DTEND:20160825T000000Z
LOCATION:Bahama Breeze Restaurant, 375 Howard Hughes Pkwy, Corner of Flamingo Rd & Paradise, Las Vegas, NV, 89109, USA,
SUMMARY:Harvard Club Lunch, September 21,  2016
DESCRIPTION:
BEGIN:VALARM
TRIGGER:-PT15M
ACTION:DISPLAY
END:VALARM
TRANSP:OPAQUE
END:VEVENT
END:VCALENDAR
