BEGIN:VCALENDAR
VERSION:2.0
PRODID:-//OmniMagnetCalendar//EN
BEGIN:VEVENT
DTSTAMP:20190625T195740Z
STATUS:CONFIRMED
UID:hcnevada.clubs.harvard.edu182
DTSTART:20161019T223000Z
DTEND:20161020T000000Z
LOCATION:PING PANG PONG, 4000 W FLAMINGO RD, GOLD COAST HOTEL, Las Vegas, NV, 89103, USA,
SUMMARY:Harvard Club Lunch, October 19,  2016
DESCRIPTION:
BEGIN:VALARM
TRIGGER:-PT15M
ACTION:DISPLAY
END:VALARM
TRANSP:OPAQUE
END:VEVENT
END:VCALENDAR
