BEGIN:VCALENDAR
VERSION:2.0
PRODID:-//OmniMagnetCalendar//EN
BEGIN:VEVENT
DTSTAMP:20190625T195740Z
STATUS:CONFIRMED
UID:hcnevada.clubs.harvard.edu191
DTSTART:20170427T040000Z
DTEND:20170427T060000Z
LOCATION:The Las Vegas Country Club, 3000 Joe W Brown Drive, Rotunda Room, Las Vegas, NV, 89109, USA,
SUMMARY:Harvard Club of Nevada Annual Spring Reception & Prize Book Ceremony
DESCRIPTION:
BEGIN:VALARM
TRIGGER:-PT15M
ACTION:DISPLAY
END:VALARM
TRANSP:OPAQUE
END:VEVENT
END:VCALENDAR
