BEGIN:VCALENDAR
VERSION:2.0
PRODID:-//OmniMagnetCalendar//EN
BEGIN:VEVENT
DTSTAMP:20190625T195740Z
STATUS:CONFIRMED
UID:hcnevada.clubs.harvard.edu198
DTSTART:20170506T190000Z
DTEND:20170506T230000Z
LOCATION:Las Vegas Rescue Mission, 460 W Bonanza Rd, Las Vegas, NV, 89106, USA,
SUMMARY:Harvard Club Community Service, Las Vegas: May 6, 2017
DESCRIPTION:Harvard Club Volunteer Activity
BEGIN:VALARM
TRIGGER:-PT15M
ACTION:DISPLAY
END:VALARM
TRANSP:OPAQUE
END:VEVENT
END:VCALENDAR
