BEGIN:VCALENDAR
VERSION:2.0
PRODID:-//OmniMagnetCalendar//EN
BEGIN:VEVENT
DTSTAMP:20190625T195740Z
STATUS:CONFIRMED
UID:hcnevada.clubs.harvard.edu203
DTSTART:20171013T040000Z
DTEND:20171013T073000Z
LOCATION:CITY NATIONAL ARENA, 1550 S Pavilion Center Dr, Las Vegas, NV, 89135, USA,
SUMMARY:Harvard Business School Alumni Mixer/Networking Event
DESCRIPTION:
BEGIN:VALARM
TRIGGER:-PT15M
ACTION:DISPLAY
END:VALARM
TRANSP:OPAQUE
END:VEVENT
END:VCALENDAR
