BEGIN:VCALENDAR
VERSION:2.0
PRODID:-//OmniMagnetCalendar//EN
BEGIN:VEVENT
DTSTAMP:20190625T195740Z
STATUS:CONFIRMED
UID:hcnevada.clubs.harvard.edu215
DTSTART:20171118T200000Z
DTEND:20171118T233000Z
LOCATION:PKWY Tavern, 9820 W. Flamingo Rd, LAS VEGAS, NV, 89147, USA,
SUMMARY:The GAME 2017: HARVARD vs yale
DESCRIPTION:
BEGIN:VALARM
TRIGGER:-PT15M
ACTION:DISPLAY
END:VALARM
TRANSP:OPAQUE
END:VEVENT
END:VCALENDAR
