BEGIN:VCALENDAR
VERSION:2.0
PRODID:-//OmniMagnetCalendar//EN
BEGIN:VEVENT
DTSTAMP:20190625T195740Z
STATUS:CONFIRMED
UID:hcnevada.clubs.harvard.edu217
DTSTART:20171130T233000Z
DTEND:20171201T010000Z
LOCATION:Studio B Buffet, 12300 S LAS VEGAS BLVD, M RESORT, Henderson, NV, 89044, USA,
SUMMARY:Harvard Club Lunch, November 30,  2017
DESCRIPTION:
BEGIN:VALARM
TRIGGER:-PT15M
ACTION:DISPLAY
END:VALARM
TRANSP:OPAQUE
END:VEVENT
END:VCALENDAR
