BEGIN:VCALENDAR
VERSION:2.0
PRODID:-//OmniMagnetCalendar//EN
BEGIN:VEVENT
DTSTAMP:20190625T195740Z
STATUS:CONFIRMED
UID:hcnevada.clubs.harvard.edu227
DTSTART:20180602T160000Z
DTEND:20180602T190000Z
LOCATION:Veterans Village #2, 50 North 21st Street, Las Vegas, NV, 89101,
SUMMARY:Annual Volunteer Event: Veterans Village
DESCRIPTION:
BEGIN:VALARM
TRIGGER:-PT15M
ACTION:DISPLAY
END:VALARM
TRANSP:OPAQUE
END:VEVENT
END:VCALENDAR
