BEGIN:VCALENDAR
VERSION:2.0
PRODID:-//OmniMagnetCalendar//EN
BEGIN:VEVENT
DTSTAMP:20190625T195740Z
STATUS:CONFIRMED
UID:hcnevada.clubs.harvard.edu234
DTSTART:20190110T020000Z
DTEND:20190110T040000Z
LOCATION:Snell & Wilmer Law Offices, 3883 Howard Hughes Pkwy, #1100, Las Vegas, NV, 89169, USA,
SUMMARY:Global Networking Night (GNN) Las Vegas, Jan 9th 2019
DESCRIPTION:Las Vegas Networking Event for Harvard Alumni & Friends
BEGIN:VALARM
TRIGGER:-PT15M
ACTION:DISPLAY
END:VALARM
TRANSP:OPAQUE
END:VEVENT
END:VCALENDAR
