BEGIN:VCALENDAR
VERSION:2.0
PRODID:-//OmniMagnetCalendar//EN
BEGIN:VEVENT
DTSTAMP:20190625T195740Z
STATUS:CONFIRMED
UID:hcnevada.clubs.harvard.edu235
DTSTART:20190122T153000Z
DTEND:20190122T163000Z
LOCATION:City National Arena (Golden Knights Practice Facility) Summerlin, 1550 South Pavilion Center Dr., Las Vegas, NV, 89135, USA,
SUMMARY:A Special Alumni Event: Las Vegas, Raiders, & Harvard College: The Connection.
DESCRIPTION:
BEGIN:VALARM
TRIGGER:-PT15M
ACTION:DISPLAY
END:VALARM
TRANSP:OPAQUE
END:VEVENT
END:VCALENDAR
