BEGIN:VCALENDAR
VERSION:2.0
PRODID:-//OmniMagnetCalendar//EN
BEGIN:VEVENT
DTSTAMP:20190625T195740Z
STATUS:CONFIRMED
UID:hcnevada.clubs.harvard.edu236
DTSTART:20181214T023000Z
DTEND:20181214T053000Z
LOCATION:El Cortez Hotel, 600 Fremont St, Las Vegas, NV, 89101, USA,
SUMMARY:ANNUAL HOLIDAY PARTY & TOY DRIVE - Thursday, December 13 (All Ivy Plus)
DESCRIPTION:
BEGIN:VALARM
TRIGGER:-PT15M
ACTION:DISPLAY
END:VALARM
TRANSP:OPAQUE
END:VEVENT
END:VCALENDAR
