BEGIN:VCALENDAR
VERSION:2.0
PRODID:-//OmniMagnetCalendar//EN
BEGIN:VEVENT
DTSTAMP:20190625T195740Z
STATUS:CONFIRMED
UID:hcnevada.clubs.harvard.edu238
DTSTART:20190228T203000Z
DTEND:20190228T220000Z
LOCATION:Ping Pang Pong, 4000 W Flamingo Rd, LAS VEGAS, NV, 89103, USA,
SUMMARY:Harvard Club Lunch, February 28, 2019
DESCRIPTION:
BEGIN:VALARM
TRIGGER:-PT15M
ACTION:DISPLAY
END:VALARM
TRANSP:OPAQUE
END:VEVENT
END:VCALENDAR
