BEGIN:VCALENDAR
VERSION:2.0
PRODID:-//OmniMagnetCalendar//EN
BEGIN:VEVENT
DTSTAMP:20190625T195740Z
STATUS:CONFIRMED
UID:hcnevada.clubs.harvard.edu247
DTSTART:20190523T193000Z
DTEND:20190523T083000Z
LOCATION:Grape Street Downtown Summerlin, 2120 Festival Plaza Drive, LAS VEGAS, NV, 89135, USA,
SUMMARY:Harvard Club Lunch: Thursday, May 23, 2019 - 12:30 PM
DESCRIPTION:
BEGIN:VALARM
TRIGGER:-PT15M
ACTION:DISPLAY
END:VALARM
TRANSP:OPAQUE
END:VEVENT
END:VCALENDAR
