BEGIN:VCALENDAR
VERSION:2.0
PRODID:-//OmniMagnetCalendar//EN
BEGIN:VEVENT
DTSTAMP:20190625T195740Z
STATUS:CONFIRMED
UID:hcnevada.clubs.harvard.edu251
DTSTART:20190921T190000Z
DTEND:20190921T230000Z
LOCATION:Torero Stadium, 5998 Alcala Park, San Diego, CA, 92111,
SUMMARY:Harvard Crimson @ Univ. of San Diego Football
DESCRIPTION:Full Schedule of Events Has Been Posted!
BEGIN:VALARM
TRIGGER:-PT15M
ACTION:DISPLAY
END:VALARM
TRANSP:OPAQUE
END:VEVENT
END:VCALENDAR
