BEGIN:VCALENDAR
VERSION:2.0
PRODID:-//OmniMagnetCalendar//EN
BEGIN:VEVENT
DTSTAMP:20190625T195740Z
STATUS:CONFIRMED
UID:hcnevada.clubs.harvard.edu265
DTSTART:20191024T193000Z
DTEND:20191024T210000Z
LOCATION:Table 34, 600 E. Warm Springs, LAS VEGAS, NV, 89119, USA,
SUMMARY:Harvard Club Lunch:  Thursday, October 24
DESCRIPTION:
BEGIN:VALARM
TRIGGER:-PT15M
ACTION:DISPLAY
END:VALARM
TRANSP:OPAQUE
END:VEVENT
END:VCALENDAR
