BEGIN:VCALENDAR
VERSION:2.0
PRODID:-//OmniMagnetCalendar//EN
BEGIN:VEVENT
DTSTAMP:20190625T195740Z
STATUS:CONFIRMED
UID:hcnevada.clubs.harvard.edu269
DTSTART:20191123T140000Z
DTEND:20191123T173000Z
LOCATION:PKWY Tavern:  Green Valley Ranch, 445 Marks St #6669, Henderson, NV, 89014,
SUMMARY:"The Game" Harvard vs. Yale Football Watch Party
DESCRIPTION:PKWY Tavern @ The District (Green Valley Ranch) in Henderson, NV
BEGIN:VALARM
TRIGGER:-PT15M
ACTION:DISPLAY
END:VALARM
TRANSP:OPAQUE
END:VEVENT
END:VCALENDAR
