BEGIN:VCALENDAR
VERSION:2.0
PRODID:-//OmniMagnetCalendar//EN
BEGIN:VEVENT
DTSTAMP:20190625T195740Z
STATUS:CONFIRMED
UID:hcnevada.clubs.harvard.edu276
DTSTART:20200116T020000Z
DTEND:20200116T040000Z
LOCATION:Snell & Wilmer Law Offices (Howard Hughes Center), 883 Howard Hughes Parkway, Suite 1100, LAS VEGAS, NV, 89169, USA,
SUMMARY:Global Networking Night: Las Vegas
DESCRIPTION:The Harvard Alumni Association invites you to join fellow local alumni for Global Networking Night in Las Vegas.
BEGIN:VALARM
TRIGGER:-PT15M
ACTION:DISPLAY
END:VALARM
TRANSP:OPAQUE
END:VEVENT
END:VCALENDAR
