BEGIN:VCALENDAR
VERSION:2.0
PRODID:-//OmniMagnetCalendar//EN
BEGIN:VEVENT
DTSTAMP:20190625T195740Z
STATUS:CONFIRMED
UID:hcnevada.clubs.harvard.edu278
DTSTART:20200117T020000Z
DTEND:20200117T030000Z
LOCATION:3311 S. Rainbow Blvd, Suite 103, LAS VEGAS, NV, 89117, USA,
SUMMARY:TRAINING: Harvard College Applicant Interviews
DESCRIPTION:
BEGIN:VALARM
TRIGGER:-PT15M
ACTION:DISPLAY
END:VALARM
TRANSP:OPAQUE
END:VEVENT
END:VCALENDAR
