BEGIN:VCALENDAR
VERSION:2.0
PRODID:-//OmniMagnetCalendar//EN
BEGIN:VEVENT
DTSTAMP:20190625T195740Z
STATUS:CONFIRMED
UID:hcnevada.clubs.harvard.edu279
DTSTART:20200309T143000Z
DTEND:20200309T210000Z
LOCATION:Mountain Gate Country Club, 12445 Mountaingate Drive, Los Angeles, CA, 90049,
SUMMARY:3rd Annual HVC California Golf Tournament
DESCRIPTION:Mountain Gate Country Club (Los Angeles, CA)
BEGIN:VALARM
TRIGGER:-PT15M
ACTION:DISPLAY
END:VALARM
TRANSP:OPAQUE
END:VEVENT
END:VCALENDAR
