BEGIN:VCALENDAR
VERSION:2.0
PRODID:-//OmniMagnetCalendar//EN
BEGIN:VEVENT
DTSTAMP:20190625T195740Z
STATUS:CONFIRMED
UID:hcnevada.clubs.harvard.edu280
DTSTART:20200227T203000Z
DTEND:20200227T220000Z
LOCATION:Arawan Thai Bisto, 953 E. Sahara Ave., Suite E-14, LAS VEGAS, NV, 89104, USA,
SUMMARY:Harvard Club Lunch:  Thursday, February 27
DESCRIPTION:Arawan Thai Bistro
BEGIN:VALARM
TRIGGER:-PT15M
ACTION:DISPLAY
END:VALARM
TRANSP:OPAQUE
END:VEVENT
END:VCALENDAR
