BEGIN:VCALENDAR
VERSION:2.0
PRODID:-//OmniMagnetCalendar//EN
BEGIN:VEVENT
DTSTAMP:20190625T195740Z
STATUS:CONFIRMED
UID:hcnevada.clubs.harvard.edu287
DTSTART:20200809T000000Z
DTEND:20200809T030000Z
LOCATION:Claire Roth home, 1733 Corta Bella Drive, Las Vegas, NV, 89134, USA,
SUMMARY:Annual Summer BBQ & Potluck 2020
DESCRIPTION:
BEGIN:VALARM
TRIGGER:-PT15M
ACTION:DISPLAY
END:VALARM
TRANSP:OPAQUE
END:VEVENT
END:VCALENDAR
