BEGIN:VCALENDAR
VERSION:2.0
PRODID:-//OmniMagnetCalendar//EN
BEGIN:VEVENT
DTSTAMP:20190625T195740Z
STATUS:CONFIRMED
UID:hcnevada.clubs.harvard.edu290
DTSTART:20200623T000000Z
DTEND:20200623T010000Z
LOCATION:Zoom Virtual Event,
SUMMARY:Coach Tommy Amaker: A fireside chat with Head Coach of Harvard's Mens Basketball
DESCRIPTION:A special event organized by our friends at the Harvard Club of Utah.
BEGIN:VALARM
TRIGGER:-PT15M
ACTION:DISPLAY
END:VALARM
TRANSP:OPAQUE
END:VEVENT
END:VCALENDAR
