BEGIN:VCALENDAR
VERSION:2.0
PRODID:-//OmniMagnetCalendar//EN
BEGIN:VEVENT
DTSTAMP:20190625T195740Z
STATUS:CONFIRMED
UID:hcnevada.clubs.harvard.edu292
DTSTART:20200814T230000Z
DTEND:20200824T000000Z
LOCATION:Virtual Tours of Harvard Yard,
SUMMARY:Virtual Historical Tour of Harvard
DESCRIPTION:The Harvard University Visitor Center will be offering a Virtual Historical Tour of Harvard. This virtual student-led tour of Harvard provides a history of the University, general information, and a unique view on the student’s individual experience.
BEGIN:VALARM
TRIGGER:-PT15M
ACTION:DISPLAY
END:VALARM
TRANSP:OPAQUE
END:VEVENT
END:VCALENDAR
