BEGIN:VCALENDAR
VERSION:2.0
PRODID:-//OmniMagnetCalendar//EN
BEGIN:VEVENT
DTSTAMP:20190625T195740Z
STATUS:CONFIRMED
UID:hcnevada.clubs.harvard.edu293
DTSTART:20201022T000000Z
DTEND:20201022T010000Z
LOCATION:Zoom Virtual Meeting,
SUMMARY:An Evening with Vivian S. Lee, MD, Ph.D, MBA.
DESCRIPTION:President of Health Platforms at Verily and Former University of Utah Medical School Dean and CEO UofU Healthcare
BEGIN:VALARM
TRIGGER:-PT15M
ACTION:DISPLAY
END:VALARM
TRANSP:OPAQUE
END:VEVENT
END:VCALENDAR
