BEGIN:VCALENDAR
VERSION:2.0
PRODID:-//OmniMagnetCalendar//EN
BEGIN:VEVENT
DTSTAMP:20190625T195740Z
STATUS:CONFIRMED
UID:hcnevada.clubs.harvard.edu294
DTSTART:20201028T003000Z
DTEND:20201028T020000Z
LOCATION:Zoom Virtual Event,
SUMMARY:A Conversation with Harvard Law School Professor Michael Klarman
DESCRIPTION:A discussion on democracy and the Supreme Court for our Ivy-intercollegiate alumni.
BEGIN:VALARM
TRIGGER:-PT15M
ACTION:DISPLAY
END:VALARM
TRANSP:OPAQUE
END:VEVENT
END:VCALENDAR
