BEGIN:VCALENDAR
VERSION:2.0
PRODID:-//OmniMagnetCalendar//EN
BEGIN:VEVENT
DTSTAMP:20190625T195740Z
STATUS:CONFIRMED
UID:hcnevada.clubs.harvard.edu297
DTSTART:20210122T020000Z
DTEND:20210122T040000Z
LOCATION:Virtual Event,
SUMMARY:Global (Virtual) Networking Night 2021
DESCRIPTION:Join us for the Harvard Alumni Association’s annual Global Networking Night (GNN)!
BEGIN:VALARM
TRIGGER:-PT15M
ACTION:DISPLAY
END:VALARM
TRANSP:OPAQUE
END:VEVENT
END:VCALENDAR
