BEGIN:VCALENDAR
VERSION:2.0
PRODID:-//OmniMagnetCalendar//EN
BEGIN:VEVENT
DTSTAMP:20190625T195740Z
STATUS:CONFIRMED
UID:hcnevada.clubs.harvard.edu298
DTSTART:20210108T000000Z
DTEND:20210108T010000Z
LOCATION:Virtual,
SUMMARY:Theory from MIT - Build Core Profit, Avoid Profit Drain
DESCRIPTION:Fireside Chat and Informal Presentation on Core Profit 
BEGIN:VALARM
TRIGGER:-PT15M
ACTION:DISPLAY
END:VALARM
TRANSP:OPAQUE
END:VEVENT
END:VCALENDAR
