BEGIN:VCALENDAR
VERSION:2.0
PRODID:-//OmniMagnetCalendar//EN
BEGIN:VEVENT
DTSTAMP:20190625T195740Z
STATUS:CONFIRMED
UID:hcnevada.clubs.harvard.edu299
DTSTART:20210415T010000Z
DTEND:20210415T023000Z
LOCATION:
SUMMARY:Harvard Club of Nevada Annual Spring Reception & Prize Book Ceremony *VIRTUAL*
DESCRIPTION:Honoring this year's Harvard Book Club awardees and welcoming the incoming class of 2025 to Harvard College.
BEGIN:VALARM
TRIGGER:-PT15M
ACTION:DISPLAY
END:VALARM
TRANSP:OPAQUE
END:VEVENT
END:VCALENDAR
