BEGIN:VCALENDAR
VERSION:2.0
PRODID:-//OmniMagnetCalendar//EN
BEGIN:VEVENT
DTSTAMP:20190625T195740Z
STATUS:CONFIRMED
UID:hcnevada.clubs.harvard.edu300
DTSTART:20210401T000000Z
DTEND:20210401T013000Z
LOCATION:Zoom (link to be sent to registered participants),
SUMMARY:Science and Cooking: An Insider’s Discussion with Harvard Professor Michael Brenner
DESCRIPTION:An insiders look at one of Harvard's most popular course (and some cool science to do in the kitchen) with Professor Michael Brenner.
BEGIN:VALARM
TRIGGER:-PT15M
ACTION:DISPLAY
END:VALARM
TRANSP:OPAQUE
END:VEVENT
END:VCALENDAR
