BEGIN:VCALENDAR
VERSION:2.0
PRODID:-//OmniMagnetCalendar//EN
BEGIN:VEVENT
DTSTAMP:20190625T195740Z
STATUS:CONFIRMED
UID:hcnevada.clubs.harvard.edu302
DTSTART:20210815T010000Z
DTEND:20210815T033000Z
LOCATION:Claire Roth home, 1733 Corta Bella Drive, Las Vegas, NV, 89134, USA,
SUMMARY:Summer BBQ & Potluck 2021
DESCRIPTION:We will enjoy both indoor and outdoor social spacing.
BEGIN:VALARM
TRIGGER:-PT15M
ACTION:DISPLAY
END:VALARM
TRANSP:OPAQUE
END:VEVENT
END:VCALENDAR
