BEGIN:VCALENDAR
VERSION:2.0
PRODID:-//OmniMagnetCalendar//EN
BEGIN:VEVENT
DTSTAMP:20190625T195740Z
STATUS:CONFIRMED
UID:hcnevada.clubs.harvard.edu304
DTSTART:20211120T170000Z
DTEND:20211120T203000Z
LOCATION:Sterling Club (Turnberry), 2827 Paradise Rd,, Las Vegas, NV, 89109,
SUMMARY:"The Game" Harvard vs. Yale Football Watch Party
DESCRIPTION:Sterling Club (Turnberry) Tickets are $50 and includes omelette bar, lox & bagels, etc.!
BEGIN:VALARM
TRIGGER:-PT15M
ACTION:DISPLAY
END:VALARM
TRANSP:OPAQUE
END:VEVENT
END:VCALENDAR
