BEGIN:VCALENDAR
VERSION:2.0
PRODID:-//OmniMagnetCalendar//EN
BEGIN:VEVENT
DTSTAMP:20190625T195740Z
STATUS:CONFIRMED
UID:hcnevada.clubs.harvard.edu305
DTSTART:20211210T020000Z
DTEND:20211210T050000Z
LOCATION:Black Fire Innovation (near the Ikea), 8400 W Sunset Road, Suite 400, Las Vegas, NV, 89113, USA,
SUMMARY:Annual Holiday Party & Toy Drive - Thursday, December 9th (All Ivy Plus)
DESCRIPTION:Celebrate the season with alumni from the Vegas Ivy Plus Community at the 11th Annual Holiday Party & Toy Drive. BONUS:  A special opportunity to experience Las Vegas's Black Fire Innovation Center! (located near the Ikea)
BEGIN:VALARM
TRIGGER:-PT15M
ACTION:DISPLAY
END:VALARM
TRANSP:OPAQUE
END:VEVENT
END:VCALENDAR
