BEGIN:VCALENDAR
VERSION:2.0
PRODID:-//OmniMagnetCalendar//EN
BEGIN:VEVENT
DTSTAMP:20190625T195740Z
STATUS:CONFIRMED
UID:hcnevada.clubs.harvard.edu307
DTSTART:20220311T010000Z
DTEND:20220311T030000Z
LOCATION:Zoom Meeting,
SUMMARY:Ali Wenzke AB '00:  The Art of Happy Moving
DESCRIPTION:Join the Harvard Club of Phoenix for an Online Discussion with Ali Wenzke AB '00 Author of The Art of Happy Moving: How to Declutter, Pack, and Start Over While Maintaining Your Sanity and Finding Happiness
BEGIN:VALARM
TRIGGER:-PT15M
ACTION:DISPLAY
END:VALARM
TRANSP:OPAQUE
END:VEVENT
END:VCALENDAR
